BEGIN:VCALENDAR
VERSION:2.0
PRODID:-//btownwarehouse.com - ECPv6.15.20//NONSGML v1.0//EN
CALSCALE:GREGORIAN
METHOD:PUBLISH
X-ORIGINAL-URL:https://btownwarehouse.com
X-WR-CALDESC:Events for btownwarehouse.com
REFRESH-INTERVAL;VALUE=DURATION:PT1H
X-Robots-Tag:noindex
X-PUBLISHED-TTL:PT1H
BEGIN:VTIMEZONE
TZID:UTC
BEGIN:STANDARD
TZOFFSETFROM:+0000
TZOFFSETTO:+0000
TZNAME:UTC
DTSTART:20250101T000000
END:STANDARD
END:VTIMEZONE
BEGIN:VEVENT
DTSTART;VALUE=DATE:20260424
DTEND;VALUE=DATE:20260427
DTSTAMP:20260423T191214
CREATED:20260330T155645Z
LAST-MODIFIED:20260414T165633Z
UID:55083-1776988800-1777247999@btownwarehouse.com
SUMMARY:Stages Bloomington Presents Shrek Jr!
DESCRIPTION:Once upon a time\, in a far away swamp\, there lived an ogre named Shrek.  One day\, Shrek finds his swamp invaded by banished fairytale misfits who have been cast off by Lord Farquaad\, a tiny terror with big ambitions. When Shrek sets off with a wisecracking donkey to confront Farquaad\, he’s handed a task — if he rescues feisty princess Fiona\, his swamp will be righted. Shrek tries to win Fiona’s love and vanquish Lord Farquaad\, but a fairytale wouldn’t be complete without a few twists and turns along the way. \nPart romance and part twisted fairy tale\, Shrek JR. is an irreverently fun show with a powerful message for the whole family. \nApril 24-26\, 2026 \nThe Warehouse Bloomington\n1525 S. Rogers St.\, Bloomington\, IN\, 47403\n \nApril 24\, 7:00 pm*\nApril 25\, 2:00 pm & 7:00 pm*\nApril 26\, noon* \n  \nReserved Seating\nTickets: Adult $20\, Youth (17 and under) $10 \n  \nDirected by Annalise Cain\nMusic Direction By Ben Handel\nChoreography by Jada Buehler\nStage Management by Kyli Gott-Jacobs\nSet Design by Brian Lewis\nCostume Design by Becky Underwood\nProps Design by Leah Tannen\nAssistant Direction by Liz Higgs\nProduction Assistance by Leah Rodkin \n  \nDouble Casts*       \nSwamp Cast                                                 Duloc Cast\n(4/24 @ 7 PM\, 4/25 @ 2 PM)                     (4/25 @ 7 PM\, 4/26 @ noon)\nShrek……………………Oakley Reynolds       Blythe Davis\nDonkey…………………Birdie Chambers      Molly Carroll\nPrincess Fiona………Katie Kunkel              Noey Krothe\nLord Farquaad……..Aidan Koontz             Quincy Handel\nDragon…………………Theresa Baird           Caroline Webber \n  \nDouble cast charcters will be part of the ensemble on their off nights. \nPresented by permission of Music Theatre International
URL:https://btownwarehouse.com/event/stages-bloomington-presents-shrek-jr/
END:VEVENT
BEGIN:VEVENT
DTSTART;VALUE=DATE:20260501
DTEND;VALUE=DATE:20260503
DTSTAMP:20260423T191214
CREATED:20260330T161600Z
LAST-MODIFIED:20260414T165333Z
UID:55085-1777593600-1777766399@btownwarehouse.com
SUMMARY:Lighthouse Christian Academy Production
DESCRIPTION:Join Us for a Live Performance by Lighthouse Christian Academy! \nWe’re excited to welcome Lighthouse Christian Academy for a live production here at The Warehouse! Come enjoy an evening — or afternoon — of incredible talent and creativity from this amazing group of young performers. \nPerformance Dates & Times: 🗓 Friday\, May 1st at 7:00 p.m. 🗓 Saturday\, May 2nd at 1:00 p.m. \nTickets: $5.00 per person | $30 family cap \nDon’t miss out on this wonderful community event — bring the whole family! We’ll see you there.
URL:https://btownwarehouse.com/event/lighthouse-christian-academy-production/
END:VEVENT
BEGIN:VEVENT
DTSTART;VALUE=DATE:20261010
DTEND;VALUE=DATE:20261011
DTSTAMP:20260423T191214
CREATED:20260330T161909Z
LAST-MODIFIED:20260330T162217Z
UID:55087-1791590400-1791676799@btownwarehouse.com
SUMMARY:Him Not Me / Skate & BMX Comp
DESCRIPTION:More Info to come.
URL:https://btownwarehouse.com/event/him-not-me-skate-bmx-comp/
END:VEVENT
BEGIN:VEVENT
DTSTART;TZID=UTC:20261030T150000
DTEND;TZID=UTC:20261030T190000
DTSTAMP:20260423T191214
CREATED:20260330T162612Z
LAST-MODIFIED:20260330T162612Z
UID:55090-1793372400-1793386800@btownwarehouse.com
SUMMARY:Family Harvest Fest
DESCRIPTION:More info to come.
URL:https://btownwarehouse.com/event/family-harvest-fest/
END:VEVENT
BEGIN:VEVENT
DTSTART;VALUE=DATE:20261213
DTEND;VALUE=DATE:20261214
DTSTAMP:20260423T191214
CREATED:20260330T162933Z
LAST-MODIFIED:20260330T162933Z
UID:55092-1797120000-1797206399@btownwarehouse.com
SUMMARY:Christmas Party / Skate Comp
DESCRIPTION:More info to come.
URL:https://btownwarehouse.com/event/christmas-party-skate-comp/
END:VEVENT
END:VCALENDAR