BEGIN:VCALENDAR
VERSION:2.0
PRODID:-//btownwarehouse.com - ECPv6.15.20//NONSGML v1.0//EN
CALSCALE:GREGORIAN
METHOD:PUBLISH
X-ORIGINAL-URL:https://btownwarehouse.com
X-WR-CALDESC:Events for btownwarehouse.com
REFRESH-INTERVAL;VALUE=DURATION:PT1H
X-Robots-Tag:noindex
X-PUBLISHED-TTL:PT1H
BEGIN:VTIMEZONE
TZID:UTC
BEGIN:STANDARD
TZOFFSETFROM:+0000
TZOFFSETTO:+0000
TZNAME:UTC
DTSTART:20250101T000000
END:STANDARD
END:VTIMEZONE
BEGIN:VEVENT
DTSTART;VALUE=DATE:20261213
DTEND;VALUE=DATE:20261214
DTSTAMP:20260423T203754
CREATED:20260330T162933Z
LAST-MODIFIED:20260330T162933Z
UID:55092-1797120000-1797206399@btownwarehouse.com
SUMMARY:Christmas Party / Skate Comp
DESCRIPTION:More info to come.
URL:https://btownwarehouse.com/event/christmas-party-skate-comp/
END:VEVENT
END:VCALENDAR