BEGIN:VCALENDAR
VERSION:2.0
PRODID:-//btownwarehouse.com - ECPv6.15.20//NONSGML v1.0//EN
CALSCALE:GREGORIAN
METHOD:PUBLISH
X-WR-CALNAME:btownwarehouse.com
X-ORIGINAL-URL:https://btownwarehouse.com
X-WR-CALDESC:Events for btownwarehouse.com
REFRESH-INTERVAL;VALUE=DURATION:PT1H
X-Robots-Tag:noindex
X-PUBLISHED-TTL:PT1H
BEGIN:VTIMEZONE
TZID:UTC
BEGIN:STANDARD
TZOFFSETFROM:+0000
TZOFFSETTO:+0000
TZNAME:UTC
DTSTART:20220101T000000
END:STANDARD
END:VTIMEZONE
BEGIN:VEVENT
DTSTART;VALUE=DATE:20240229
DTEND;VALUE=DATE:20240304
DTSTAMP:20260423T231920
CREATED:20240213T234128Z
LAST-MODIFIED:20240213T234128Z
UID:54318-1709164800-1709510399@btownwarehouse.com
SUMMARY:Home Show
DESCRIPTION:2/29 – VIP “After Hours with Gen215”\n3/1 – FREE to PUBLIC 2 – 8PM\n3/2 – FREE to PUBLIC 10AM – 6PM\n3/3 – FREE to PUBLIC 12 – 5PM
URL:https://btownwarehouse.com/event/home-show/
LOCATION:The Warehouse\, 1525 S Rogers Street\, Bloomington\, IN\, 47403\, United States
END:VEVENT
BEGIN:VEVENT
DTSTART;TZID=UTC:20240217T080000
DTEND;TZID=UTC:20240217T170000
DTSTAMP:20260423T231920
CREATED:20240213T233721Z
LAST-MODIFIED:20240213T233721Z
UID:54315-1708156800-1708189200@btownwarehouse.com
SUMMARY:IU vs. Purdue Pickleball Tournament
DESCRIPTION:
URL:https://btownwarehouse.com/event/iu-vs-purdue-pickleball-tournament/
LOCATION:The Warehouse\, 1525 S Rogers Street\, Bloomington\, IN\, 47403\, United States
ORGANIZER;CN="Timber Tucker":MAILTO:timbertucker@gmail.com
END:VEVENT
BEGIN:VEVENT
DTSTART;TZID=UTC:20230831T190000
DTEND;TZID=UTC:20230831T220000
DTSTAMP:20260423T231920
CREATED:20230809T123911Z
LAST-MODIFIED:20230809T123911Z
UID:54226-1693508400-1693519200@btownwarehouse.com
SUMMARY:SALT
DESCRIPTION:
URL:https://btownwarehouse.com/event/salt-4/
LOCATION:The Warehouse\, 1525 S Rogers Street\, Bloomington\, IN\, 47403\, United States
END:VEVENT
BEGIN:VEVENT
DTSTART;TZID=UTC:20230831T064500
DTEND;TZID=UTC:20230831T084500
DTSTAMP:20260423T231920
CREATED:20230809T123636Z
LAST-MODIFIED:20230809T123636Z
UID:54224-1693464300-1693471500@btownwarehouse.com
SUMMARY:BNI One Bloomington
DESCRIPTION:
URL:https://btownwarehouse.com/event/bni-one-bloomington-3/
LOCATION:The Warehouse\, 1525 S Rogers Street\, Bloomington\, IN\, 47403\, United States
END:VEVENT
BEGIN:VEVENT
DTSTART;TZID=UTC:20230829T193000
DTEND;TZID=UTC:20230829T203000
DTSTAMP:20260423T231920
CREATED:20230809T123601Z
LAST-MODIFIED:20230809T123601Z
UID:54222-1693337400-1693341000@btownwarehouse.com
SUMMARY:YFC High School Meeting Club
DESCRIPTION:
URL:https://btownwarehouse.com/event/yfc-high-school-meeting-club/
LOCATION:The Warehouse\, 1525 S Rogers Street\, Bloomington\, IN\, 47403\, United States
END:VEVENT
BEGIN:VEVENT
DTSTART;TZID=UTC:20230829T191500
DTEND;TZID=UTC:20230829T201500
DTSTAMP:20260423T231920
CREATED:20230809T123518Z
LAST-MODIFIED:20230809T123518Z
UID:54220-1693336500-1693340100@btownwarehouse.com
SUMMARY:Bible Study
DESCRIPTION:
URL:https://btownwarehouse.com/event/bible-study-3/
LOCATION:The Warehouse\, 1525 S Rogers Street\, Bloomington\, IN\, 47403\, United States
END:VEVENT
BEGIN:VEVENT
DTSTART;TZID=UTC:20230829T170000
DTEND;TZID=UTC:20230829T180000
DTSTAMP:20260423T231920
CREATED:20230809T123105Z
LAST-MODIFIED:20230809T123105Z
UID:54218-1693328400-1693332000@btownwarehouse.com
SUMMARY:Art Class - All Ages
DESCRIPTION:
URL:https://btownwarehouse.com/event/art-class-all-ages-5/
LOCATION:The Warehouse\, 1525 S Rogers Street\, Bloomington\, IN\, 47403\, United States
ORGANIZER;CN="Abby Starr":MAILTO:abby@btownwarehouse.com
END:VEVENT
BEGIN:VEVENT
DTSTART;TZID=UTC:20230828T191500
DTEND;TZID=UTC:20230828T204500
DTSTAMP:20260423T231920
CREATED:20230809T123031Z
LAST-MODIFIED:20230809T123031Z
UID:54216-1693250100-1693255500@btownwarehouse.com
SUMMARY:YFC Middle School Club
DESCRIPTION:
URL:https://btownwarehouse.com/event/yfc-middle-school-club/
LOCATION:The Warehouse\, 1525 S Rogers Street\, Bloomington\, IN\, 47403\, United States
END:VEVENT
BEGIN:VEVENT
DTSTART;TZID=UTC:20230826T150000
DTEND;TZID=UTC:20230826T180000
DTSTAMP:20260423T231920
CREATED:20230809T122822Z
LAST-MODIFIED:20230809T122822Z
UID:54212-1693062000-1693072800@btownwarehouse.com
SUMMARY:One New Man
DESCRIPTION:
URL:https://btownwarehouse.com/event/one-new-man-2/
LOCATION:The Warehouse\, 1525 S Rogers Street\, Bloomington\, IN\, 47403\, United States
END:VEVENT
BEGIN:VEVENT
DTSTART;TZID=UTC:20230825T210000
DTEND;TZID=UTC:20230826T000000
DTSTAMP:20260423T231920
CREATED:20230809T122938Z
LAST-MODIFIED:20230809T122938Z
UID:54214-1692997200-1693008000@btownwarehouse.com
SUMMARY:Shiloh Temple Student Ministries
DESCRIPTION:
URL:https://btownwarehouse.com/event/shiloh-temple-student-ministries/
LOCATION:The Warehouse\, 1525 S Rogers Street\, Bloomington\, IN\, 47403\, United States
END:VEVENT
BEGIN:VEVENT
DTSTART;TZID=UTC:20230825T130000
DTEND;TZID=UTC:20230825T140000
DTSTAMP:20260423T231920
CREATED:20230809T122711Z
LAST-MODIFIED:20230809T122711Z
UID:54208-1692968400-1692972000@btownwarehouse.com
SUMMARY:Painting - Teens
DESCRIPTION:
URL:https://btownwarehouse.com/event/painting-teens-3/
LOCATION:The Warehouse\, 1525 S Rogers Street\, Bloomington\, IN\, 47403\, United States
ORGANIZER;CN="Abby Starr":MAILTO:abby@btownwarehouse.com
END:VEVENT
BEGIN:VEVENT
DTSTART;TZID=UTC:20230825T110000
DTEND;TZID=UTC:20230825T120000
DTSTAMP:20260423T231920
CREATED:20230809T122749Z
LAST-MODIFIED:20230809T122749Z
UID:54210-1692961200-1692964800@btownwarehouse.com
SUMMARY:Painting - Kids
DESCRIPTION:
URL:https://btownwarehouse.com/event/painting-kids-2/
LOCATION:The Warehouse\, 1525 S Rogers Street\, Bloomington\, IN\, 47403\, United States
ORGANIZER;CN="Abby Starr":MAILTO:abby@btownwarehouse.com
END:VEVENT
BEGIN:VEVENT
DTSTART;TZID=UTC:20230824T190000
DTEND;TZID=UTC:20230824T220000
DTSTAMP:20260423T231920
CREATED:20230809T122642Z
LAST-MODIFIED:20230809T122642Z
UID:54206-1692903600-1692914400@btownwarehouse.com
SUMMARY:SALT
DESCRIPTION:
URL:https://btownwarehouse.com/event/salt-3/
LOCATION:The Warehouse\, 1525 S Rogers Street\, Bloomington\, IN\, 47403\, United States
END:VEVENT
BEGIN:VEVENT
DTSTART;TZID=UTC:20230824T130000
DTEND;TZID=UTC:20230824T140000
DTSTAMP:20260423T231920
CREATED:20230809T122607Z
LAST-MODIFIED:20230809T122607Z
UID:54204-1692882000-1692885600@btownwarehouse.com
SUMMARY:Fiber Arts - Teens
DESCRIPTION:
URL:https://btownwarehouse.com/event/fiber-arts-teens-3/
LOCATION:The Warehouse\, 1525 S Rogers Street\, Bloomington\, IN\, 47403\, United States
ORGANIZER;CN="Abby Starr":MAILTO:abby@btownwarehouse.com
END:VEVENT
BEGIN:VEVENT
DTSTART;TZID=UTC:20230824T110000
DTEND;TZID=UTC:20230824T123000
DTSTAMP:20260423T231920
CREATED:20230809T122541Z
LAST-MODIFIED:20230809T122541Z
UID:54202-1692874800-1692880200@btownwarehouse.com
SUMMARY:Fiber Arts - Kids
DESCRIPTION:
URL:https://btownwarehouse.com/event/fiber-arts-kids-2/
LOCATION:The Warehouse\, 1525 S Rogers Street\, Bloomington\, IN\, 47403\, United States
ORGANIZER;CN="Abby Starr":MAILTO:abby@btownwarehouse.com
END:VEVENT
BEGIN:VEVENT
DTSTART;TZID=UTC:20230824T064500
DTEND;TZID=UTC:20230824T084500
DTSTAMP:20260423T231920
CREATED:20230809T122500Z
LAST-MODIFIED:20230809T122500Z
UID:54200-1692859500-1692866700@btownwarehouse.com
SUMMARY:BNI One Bloomington
DESCRIPTION:
URL:https://btownwarehouse.com/event/bni-one-bloomington-2/
LOCATION:The Warehouse\, 1525 S Rogers Street\, Bloomington\, IN\, 47403\, United States
END:VEVENT
BEGIN:VEVENT
DTSTART;TZID=UTC:20230823T170000
DTEND;TZID=UTC:20230823T180000
DTSTAMP:20260423T231920
CREATED:20230809T122422Z
LAST-MODIFIED:20230809T122422Z
UID:54198-1692810000-1692813600@btownwarehouse.com
SUMMARY:Art Class - All Ages
DESCRIPTION:
URL:https://btownwarehouse.com/event/art-class-all-ages-4/
LOCATION:The Warehouse\, 1525 S Rogers Street\, Bloomington\, IN\, 47403\, United States
ORGANIZER;CN="Abby Starr":MAILTO:abby@btownwarehouse.com
END:VEVENT
BEGIN:VEVENT
DTSTART;TZID=UTC:20230822T191500
DTEND;TZID=UTC:20230822T201500
DTSTAMP:20260423T231920
CREATED:20230809T122352Z
LAST-MODIFIED:20230809T122352Z
UID:54196-1692731700-1692735300@btownwarehouse.com
SUMMARY:Bible Study
DESCRIPTION:
URL:https://btownwarehouse.com/event/bible-study-2/
LOCATION:The Warehouse\, 1525 S Rogers Street\, Bloomington\, IN\, 47403\, United States
END:VEVENT
BEGIN:VEVENT
DTSTART;TZID=UTC:20230822T170000
DTEND;TZID=UTC:20230822T180000
DTSTAMP:20260423T231920
CREATED:20230809T122319Z
LAST-MODIFIED:20230809T122319Z
UID:54194-1692723600-1692727200@btownwarehouse.com
SUMMARY:Art Class - All Ages
DESCRIPTION:
URL:https://btownwarehouse.com/event/art-class-all-ages-3/
LOCATION:The Warehouse\, 1525 S Rogers Street\, Bloomington\, IN\, 47403\, United States
ORGANIZER;CN="Abby Starr":MAILTO:abby@btownwarehouse.com
END:VEVENT
BEGIN:VEVENT
DTSTART;TZID=UTC:20230818T130000
DTEND;TZID=UTC:20230818T140000
DTSTAMP:20260423T231920
CREATED:20230809T122049Z
LAST-MODIFIED:20230809T122049Z
UID:54192-1692363600-1692367200@btownwarehouse.com
SUMMARY:Painting - Teens
DESCRIPTION:
URL:https://btownwarehouse.com/event/painting-teens-2/
LOCATION:The Warehouse\, 1525 S Rogers Street\, Bloomington\, IN\, 47403\, United States
ORGANIZER;CN="Abby Starr":MAILTO:abby@btownwarehouse.com
END:VEVENT
BEGIN:VEVENT
DTSTART;TZID=UTC:20230818T110000
DTEND;TZID=UTC:20230818T120000
DTSTAMP:20260423T231920
CREATED:20230809T122010Z
LAST-MODIFIED:20230809T122010Z
UID:54190-1692356400-1692360000@btownwarehouse.com
SUMMARY:Painting - Kids
DESCRIPTION:
URL:https://btownwarehouse.com/event/painting-kids/
LOCATION:The Warehouse\, 1525 S Rogers Street\, Bloomington\, IN\, 47403\, United States
ORGANIZER;CN="Abby Starr":MAILTO:abby@btownwarehouse.com
END:VEVENT
BEGIN:VEVENT
DTSTART;TZID=UTC:20230817T190000
DTEND;TZID=UTC:20230817T220000
DTSTAMP:20260423T231920
CREATED:20230809T121932Z
LAST-MODIFIED:20230809T121932Z
UID:54188-1692298800-1692309600@btownwarehouse.com
SUMMARY:SALT
DESCRIPTION:
URL:https://btownwarehouse.com/event/salt-2/
LOCATION:The Warehouse\, 1525 S Rogers Street\, Bloomington\, IN\, 47403\, United States
END:VEVENT
BEGIN:VEVENT
DTSTART;TZID=UTC:20230817T130000
DTEND;TZID=UTC:20230817T140000
DTSTAMP:20260423T231920
CREATED:20230809T121852Z
LAST-MODIFIED:20230809T121852Z
UID:54186-1692277200-1692280800@btownwarehouse.com
SUMMARY:Fiber Arts - Teens
DESCRIPTION:
URL:https://btownwarehouse.com/event/fiber-arts-teens-2/
LOCATION:The Warehouse\, 1525 S Rogers Street\, Bloomington\, IN\, 47403\, United States
ORGANIZER;CN="Abby Starr":MAILTO:abby@btownwarehouse.com
END:VEVENT
BEGIN:VEVENT
DTSTART;TZID=UTC:20230817T110000
DTEND;TZID=UTC:20230817T120000
DTSTAMP:20260423T231920
CREATED:20230809T121813Z
LAST-MODIFIED:20230809T121813Z
UID:54184-1692270000-1692273600@btownwarehouse.com
SUMMARY:Fiber Arts - Kids
DESCRIPTION:
URL:https://btownwarehouse.com/event/fiber-arts-kids/
LOCATION:The Warehouse\, 1525 S Rogers Street\, Bloomington\, IN\, 47403\, United States
ORGANIZER;CN="Abby Starr":MAILTO:abby@btownwarehouse.com
END:VEVENT
BEGIN:VEVENT
DTSTART;TZID=UTC:20230817T064500
DTEND;TZID=UTC:20230817T084500
DTSTAMP:20260423T231920
CREATED:20230809T121730Z
LAST-MODIFIED:20230809T121730Z
UID:54182-1692254700-1692261900@btownwarehouse.com
SUMMARY:BNI One Bloomington
DESCRIPTION:
URL:https://btownwarehouse.com/event/bni-one-bloomington/
LOCATION:The Warehouse\, 1525 S Rogers Street\, Bloomington\, IN\, 47403\, United States
END:VEVENT
BEGIN:VEVENT
DTSTART;TZID=UTC:20230816T170000
DTEND;TZID=UTC:20230816T180000
DTSTAMP:20260423T231920
CREATED:20230809T121412Z
LAST-MODIFIED:20230809T121412Z
UID:54180-1692205200-1692208800@btownwarehouse.com
SUMMARY:Art Class - All Ages
DESCRIPTION:
URL:https://btownwarehouse.com/event/art-class-all-ages-2/
LOCATION:The Warehouse\, 1525 S Rogers Street\, Bloomington\, IN\, 47403\, United States
ORGANIZER;CN="Abby Starr":MAILTO:abby@btownwarehouse.com
END:VEVENT
BEGIN:VEVENT
DTSTART;TZID=UTC:20230815T191500
DTEND;TZID=UTC:20230815T201500
DTSTAMP:20260423T231920
CREATED:20230809T121330Z
LAST-MODIFIED:20230809T121330Z
UID:54178-1692126900-1692130500@btownwarehouse.com
SUMMARY:Bible Study
DESCRIPTION:
URL:https://btownwarehouse.com/event/bible-study/
LOCATION:The Warehouse\, 1525 S Rogers Street\, Bloomington\, IN\, 47403\, United States
END:VEVENT
BEGIN:VEVENT
DTSTART;TZID=UTC:20230815T170000
DTEND;TZID=UTC:20230815T180000
DTSTAMP:20260423T231920
CREATED:20230809T121249Z
LAST-MODIFIED:20230809T121249Z
UID:54176-1692118800-1692122400@btownwarehouse.com
SUMMARY:Art Class - All Ages
DESCRIPTION:
URL:https://btownwarehouse.com/event/art-class-all-ages/
LOCATION:The Warehouse\, 1525 S Rogers Street\, Bloomington\, IN\, 47403\, United States
ORGANIZER;CN="Abby Starr":MAILTO:abby@btownwarehouse.com
END:VEVENT
BEGIN:VEVENT
DTSTART;TZID=UTC:20230812T150000
DTEND;TZID=UTC:20230812T180000
DTSTAMP:20260423T231920
CREATED:20230809T121134Z
LAST-MODIFIED:20230809T121134Z
UID:54174-1691852400-1691863200@btownwarehouse.com
SUMMARY:One New Man
DESCRIPTION:
URL:https://btownwarehouse.com/event/one-new-man/
LOCATION:The Warehouse\, 1525 S Rogers Street\, Bloomington\, IN\, 47403\, United States
END:VEVENT
BEGIN:VEVENT
DTSTART;TZID=UTC:20230811T130000
DTEND;TZID=UTC:20230811T140000
DTSTAMP:20260423T231920
CREATED:20230809T121059Z
LAST-MODIFIED:20230809T121059Z
UID:54172-1691758800-1691762400@btownwarehouse.com
SUMMARY:Painting - Teens
DESCRIPTION:
URL:https://btownwarehouse.com/event/painting-teens/
LOCATION:The Warehouse\, 1525 S Rogers Street\, Bloomington\, IN\, 47403\, United States
ORGANIZER;CN="Abby Starr":MAILTO:abby@btownwarehouse.com
END:VEVENT
END:VCALENDAR