BEGIN:VCALENDAR
VERSION:2.0
PRODID:-//btownwarehouse.com - ECPv6.15.20//NONSGML v1.0//EN
CALSCALE:GREGORIAN
METHOD:PUBLISH
X-WR-CALNAME:btownwarehouse.com
X-ORIGINAL-URL:https://btownwarehouse.com
X-WR-CALDESC:Events for btownwarehouse.com
REFRESH-INTERVAL;VALUE=DURATION:PT1H
X-Robots-Tag:noindex
X-PUBLISHED-TTL:PT1H
BEGIN:VTIMEZONE
TZID:UTC
BEGIN:STANDARD
TZOFFSETFROM:+0000
TZOFFSETTO:+0000
TZNAME:UTC
DTSTART:20220101T000000
END:STANDARD
END:VTIMEZONE
BEGIN:VEVENT
DTSTART;TZID=UTC:20230818T110000
DTEND;TZID=UTC:20230818T120000
DTSTAMP:20260423T233755
CREATED:20230809T122010Z
LAST-MODIFIED:20230809T122010Z
UID:54190-1692356400-1692360000@btownwarehouse.com
SUMMARY:Painting - Kids
DESCRIPTION:
URL:https://btownwarehouse.com/event/painting-kids/
LOCATION:The Warehouse\, 1525 S Rogers Street\, Bloomington\, IN\, 47403\, United States
ORGANIZER;CN="Abby Starr":MAILTO:abby@btownwarehouse.com
END:VEVENT
BEGIN:VEVENT
DTSTART;TZID=UTC:20230817T190000
DTEND;TZID=UTC:20230817T220000
DTSTAMP:20260423T233755
CREATED:20230809T121932Z
LAST-MODIFIED:20230809T121932Z
UID:54188-1692298800-1692309600@btownwarehouse.com
SUMMARY:SALT
DESCRIPTION:
URL:https://btownwarehouse.com/event/salt-2/
LOCATION:The Warehouse\, 1525 S Rogers Street\, Bloomington\, IN\, 47403\, United States
END:VEVENT
BEGIN:VEVENT
DTSTART;TZID=UTC:20230817T130000
DTEND;TZID=UTC:20230817T140000
DTSTAMP:20260423T233755
CREATED:20230809T121852Z
LAST-MODIFIED:20230809T121852Z
UID:54186-1692277200-1692280800@btownwarehouse.com
SUMMARY:Fiber Arts - Teens
DESCRIPTION:
URL:https://btownwarehouse.com/event/fiber-arts-teens-2/
LOCATION:The Warehouse\, 1525 S Rogers Street\, Bloomington\, IN\, 47403\, United States
ORGANIZER;CN="Abby Starr":MAILTO:abby@btownwarehouse.com
END:VEVENT
BEGIN:VEVENT
DTSTART;TZID=UTC:20230817T110000
DTEND;TZID=UTC:20230817T120000
DTSTAMP:20260423T233755
CREATED:20230809T121813Z
LAST-MODIFIED:20230809T121813Z
UID:54184-1692270000-1692273600@btownwarehouse.com
SUMMARY:Fiber Arts - Kids
DESCRIPTION:
URL:https://btownwarehouse.com/event/fiber-arts-kids/
LOCATION:The Warehouse\, 1525 S Rogers Street\, Bloomington\, IN\, 47403\, United States
ORGANIZER;CN="Abby Starr":MAILTO:abby@btownwarehouse.com
END:VEVENT
BEGIN:VEVENT
DTSTART;TZID=UTC:20230817T064500
DTEND;TZID=UTC:20230817T084500
DTSTAMP:20260423T233755
CREATED:20230809T121730Z
LAST-MODIFIED:20230809T121730Z
UID:54182-1692254700-1692261900@btownwarehouse.com
SUMMARY:BNI One Bloomington
DESCRIPTION:
URL:https://btownwarehouse.com/event/bni-one-bloomington/
LOCATION:The Warehouse\, 1525 S Rogers Street\, Bloomington\, IN\, 47403\, United States
END:VEVENT
BEGIN:VEVENT
DTSTART;TZID=UTC:20230816T170000
DTEND;TZID=UTC:20230816T180000
DTSTAMP:20260423T233755
CREATED:20230809T121412Z
LAST-MODIFIED:20230809T121412Z
UID:54180-1692205200-1692208800@btownwarehouse.com
SUMMARY:Art Class - All Ages
DESCRIPTION:
URL:https://btownwarehouse.com/event/art-class-all-ages-2/
LOCATION:The Warehouse\, 1525 S Rogers Street\, Bloomington\, IN\, 47403\, United States
ORGANIZER;CN="Abby Starr":MAILTO:abby@btownwarehouse.com
END:VEVENT
BEGIN:VEVENT
DTSTART;TZID=UTC:20230815T191500
DTEND;TZID=UTC:20230815T201500
DTSTAMP:20260423T233755
CREATED:20230809T121330Z
LAST-MODIFIED:20230809T121330Z
UID:54178-1692126900-1692130500@btownwarehouse.com
SUMMARY:Bible Study
DESCRIPTION:
URL:https://btownwarehouse.com/event/bible-study/
LOCATION:The Warehouse\, 1525 S Rogers Street\, Bloomington\, IN\, 47403\, United States
END:VEVENT
BEGIN:VEVENT
DTSTART;TZID=UTC:20230815T170000
DTEND;TZID=UTC:20230815T180000
DTSTAMP:20260423T233755
CREATED:20230809T121249Z
LAST-MODIFIED:20230809T121249Z
UID:54176-1692118800-1692122400@btownwarehouse.com
SUMMARY:Art Class - All Ages
DESCRIPTION:
URL:https://btownwarehouse.com/event/art-class-all-ages/
LOCATION:The Warehouse\, 1525 S Rogers Street\, Bloomington\, IN\, 47403\, United States
ORGANIZER;CN="Abby Starr":MAILTO:abby@btownwarehouse.com
END:VEVENT
BEGIN:VEVENT
DTSTART;TZID=UTC:20230812T150000
DTEND;TZID=UTC:20230812T180000
DTSTAMP:20260423T233755
CREATED:20230809T121134Z
LAST-MODIFIED:20230809T121134Z
UID:54174-1691852400-1691863200@btownwarehouse.com
SUMMARY:One New Man
DESCRIPTION:
URL:https://btownwarehouse.com/event/one-new-man/
LOCATION:The Warehouse\, 1525 S Rogers Street\, Bloomington\, IN\, 47403\, United States
END:VEVENT
BEGIN:VEVENT
DTSTART;TZID=UTC:20230811T130000
DTEND;TZID=UTC:20230811T140000
DTSTAMP:20260423T233755
CREATED:20230809T121059Z
LAST-MODIFIED:20230809T121059Z
UID:54172-1691758800-1691762400@btownwarehouse.com
SUMMARY:Painting - Teens
DESCRIPTION:
URL:https://btownwarehouse.com/event/painting-teens/
LOCATION:The Warehouse\, 1525 S Rogers Street\, Bloomington\, IN\, 47403\, United States
ORGANIZER;CN="Abby Starr":MAILTO:abby@btownwarehouse.com
END:VEVENT
BEGIN:VEVENT
DTSTART;TZID=UTC:20230810T190000
DTEND;TZID=UTC:20230810T220000
DTSTAMP:20260423T233755
CREATED:20230809T120925Z
LAST-MODIFIED:20230809T120925Z
UID:54167-1691694000-1691704800@btownwarehouse.com
SUMMARY:SALT
DESCRIPTION:
URL:https://btownwarehouse.com/event/salt/
LOCATION:The Warehouse\, 1525 S Rogers Street\, Bloomington\, IN\, 47403\, United States
END:VEVENT
BEGIN:VEVENT
DTSTART;TZID=UTC:20230810T180000
DTEND;TZID=UTC:20230810T190000
DTSTAMP:20260423T233755
CREATED:20230809T120800Z
LAST-MODIFIED:20230809T120800Z
UID:54165-1691690400-1691694000@btownwarehouse.com
SUMMARY:Center for Women's Ministries Information Meeting
DESCRIPTION:
URL:https://btownwarehouse.com/event/center-for-womens-ministries-information-meeting/
LOCATION:The Warehouse\, 1525 S Rogers Street\, Bloomington\, IN\, 47403\, United States
END:VEVENT
BEGIN:VEVENT
DTSTART;TZID=UTC:20230810T130000
DTEND;TZID=UTC:20230810T140000
DTSTAMP:20260423T233755
CREATED:20230809T121025Z
LAST-MODIFIED:20230809T121025Z
UID:54170-1691672400-1691676000@btownwarehouse.com
SUMMARY:Fiber Arts - Teens
DESCRIPTION:
URL:https://btownwarehouse.com/event/fiber-arts-teens/
LOCATION:The Warehouse\, 1525 S Rogers Street\, Bloomington\, IN\, 47403\, United States
ORGANIZER;CN="Abby Starr":MAILTO:abby@btownwarehouse.com
END:VEVENT
BEGIN:VEVENT
DTSTART;TZID=UTC:20230728T130000
DTEND;TZID=UTC:20230728T140000
DTSTAMP:20260423T233755
CREATED:20230703T041906Z
LAST-MODIFIED:20230703T041906Z
UID:54110-1690549200-1690552800@btownwarehouse.com
SUMMARY:Color Theory - Teens
DESCRIPTION:
URL:https://btownwarehouse.com/event/color-theory-teens-4/
LOCATION:The Warehouse\, 1525 S Rogers Street\, Bloomington\, IN\, 47403\, United States
ORGANIZER;CN="Abby Starr":MAILTO:abby@btownwarehouse.com
END:VEVENT
BEGIN:VEVENT
DTSTART;TZID=UTC:20230728T110000
DTEND;TZID=UTC:20230728T120000
DTSTAMP:20260423T233755
CREATED:20230703T041551Z
LAST-MODIFIED:20230703T041620Z
UID:54097-1690542000-1690545600@btownwarehouse.com
SUMMARY:Color Theory - Kids
DESCRIPTION:
URL:https://btownwarehouse.com/event/mosaics-kids-8/
LOCATION:The Warehouse\, 1525 S Rogers Street\, Bloomington\, IN\, 47403\, United States
ORGANIZER;CN="Abby Starr":MAILTO:abby@btownwarehouse.com
END:VEVENT
BEGIN:VEVENT
DTSTART;TZID=UTC:20230727T130000
DTEND;TZID=UTC:20230727T140000
DTSTAMP:20260423T233755
CREATED:20230703T040501Z
LAST-MODIFIED:20230703T040501Z
UID:54074-1690462800-1690466400@btownwarehouse.com
SUMMARY:Mosaics - Teens
DESCRIPTION:
URL:https://btownwarehouse.com/event/mosaics-teens-4/
LOCATION:The Warehouse\, 1525 S Rogers Street\, Bloomington\, IN\, 47403\, United States
ORGANIZER;CN="Abby Starr":MAILTO:abby@btownwarehouse.com
END:VEVENT
BEGIN:VEVENT
DTSTART;TZID=UTC:20230727T110000
DTEND;TZID=UTC:20230727T120000
DTSTAMP:20260423T233755
CREATED:20230703T040334Z
LAST-MODIFIED:20230703T040334Z
UID:54068-1690455600-1690459200@btownwarehouse.com
SUMMARY:Mosaics - Kids
DESCRIPTION:
URL:https://btownwarehouse.com/event/mosaics-kids-4/
LOCATION:The Warehouse\, 1525 S Rogers Street\, Bloomington\, IN\, 47403\, United States
ORGANIZER;CN="Abby Starr":MAILTO:abby@btownwarehouse.com
END:VEVENT
BEGIN:VEVENT
DTSTART;TZID=UTC:20230726T170000
DTEND;TZID=UTC:20230726T180000
DTSTAMP:20260423T233755
CREATED:20230703T041015Z
LAST-MODIFIED:20230703T041015Z
UID:54088-1690390800-1690394400@btownwarehouse.com
SUMMARY:TBD Art - All Ages
DESCRIPTION:
URL:https://btownwarehouse.com/event/tbd-art-all-ages-7/
LOCATION:The Warehouse\, 1525 S Rogers Street\, Bloomington\, IN\, 47403\, United States
ORGANIZER;CN="Abby Starr":MAILTO:abby@btownwarehouse.com
END:VEVENT
BEGIN:VEVENT
DTSTART;TZID=UTC:20230725T183000
DTEND;TZID=UTC:20230728T203000
DTSTAMP:20260423T233755
CREATED:20230703T043652Z
LAST-MODIFIED:20230703T043652Z
UID:54118-1690309800-1690576200@btownwarehouse.com
SUMMARY:Mega Sports Camp
DESCRIPTION:>>Register here now for Mega Camp 2023! << \nA free event for Kids in grades K-6 where they: \n-Choose their sport for the week! \n-Engage in fun rallies with energetic music and sports stories! \n-Enjoy free snacks and games! \n-Go to a free pool party for the whole family! \n-Watch live Bible stories \nMega Camp teaches kids character traits to excel in sports and in life!
URL:https://btownwarehouse.com/event/mega-sports-camp/
LOCATION:The Warehouse\, 1525 S Rogers Street\, Bloomington\, IN\, 47403\, United States
END:VEVENT
BEGIN:VEVENT
DTSTART;TZID=UTC:20230725T170000
DTEND;TZID=UTC:20230725T180000
DTSTAMP:20260423T233755
CREATED:20230703T040754Z
LAST-MODIFIED:20230703T040754Z
UID:54080-1690304400-1690308000@btownwarehouse.com
SUMMARY:TBD Art - All Ages
DESCRIPTION:
URL:https://btownwarehouse.com/event/tbd-art-all-ages-3/
LOCATION:The Warehouse\, 1525 S Rogers Street\, Bloomington\, IN\, 47403\, United States
ORGANIZER;CN="Abby Starr":MAILTO:abby@btownwarehouse.com
END:VEVENT
BEGIN:VEVENT
DTSTART;TZID=UTC:20230722T180000
DTEND;TZID=UTC:20230722T180000
DTSTAMP:20260423T233755
CREATED:20230703T042743Z
LAST-MODIFIED:20230703T042957Z
UID:54115-1690048800-1690048800@btownwarehouse.com
SUMMARY:BOOMington Blockheads Roller Derby
DESCRIPTION:They bring the BOOM!\n\n\nBlockheads vs. So. Illinois Roller Girls\n>>Get your tickets now!<<
URL:https://btownwarehouse.com/event/boomington-blockheads-roller-derby/
LOCATION:The Warehouse\, 1525 S Rogers Street\, Bloomington\, IN\, 47403\, United States
END:VEVENT
BEGIN:VEVENT
DTSTART;TZID=UTC:20230721T130000
DTEND;TZID=UTC:20230721T140000
DTSTAMP:20260423T233755
CREATED:20230703T041847Z
LAST-MODIFIED:20230703T041847Z
UID:54108-1689944400-1689948000@btownwarehouse.com
SUMMARY:Color Theory - Teens
DESCRIPTION:
URL:https://btownwarehouse.com/event/color-theory-teens-3/
LOCATION:The Warehouse\, 1525 S Rogers Street\, Bloomington\, IN\, 47403\, United States
ORGANIZER;CN="Abby Starr":MAILTO:abby@btownwarehouse.com
END:VEVENT
BEGIN:VEVENT
DTSTART;TZID=UTC:20230721T110000
DTEND;TZID=UTC:20230721T120000
DTSTAMP:20260423T233755
CREATED:20230703T041526Z
LAST-MODIFIED:20230703T041640Z
UID:54095-1689937200-1689940800@btownwarehouse.com
SUMMARY:Color Theory - Kids
DESCRIPTION:
URL:https://btownwarehouse.com/event/mosaics-kids-7/
LOCATION:The Warehouse\, 1525 S Rogers Street\, Bloomington\, IN\, 47403\, United States
ORGANIZER;CN="Abby Starr":MAILTO:abby@btownwarehouse.com
END:VEVENT
BEGIN:VEVENT
DTSTART;TZID=UTC:20230720T130000
DTEND;TZID=UTC:20230720T140000
DTSTAMP:20260423T233755
CREATED:20230703T040426Z
LAST-MODIFIED:20230703T040426Z
UID:54072-1689858000-1689861600@btownwarehouse.com
SUMMARY:Mosaics - Teens
DESCRIPTION:
URL:https://btownwarehouse.com/event/mosaics-teens-3/
LOCATION:The Warehouse\, 1525 S Rogers Street\, Bloomington\, IN\, 47403\, United States
ORGANIZER;CN="Abby Starr":MAILTO:abby@btownwarehouse.com
END:VEVENT
BEGIN:VEVENT
DTSTART;TZID=UTC:20230720T110000
DTEND;TZID=UTC:20230720T120000
DTSTAMP:20260423T233755
CREATED:20230703T040306Z
LAST-MODIFIED:20230703T040306Z
UID:54066-1689850800-1689854400@btownwarehouse.com
SUMMARY:Mosaics - Kids
DESCRIPTION:
URL:https://btownwarehouse.com/event/mosaics-kids-3/
LOCATION:The Warehouse\, 1525 S Rogers Street\, Bloomington\, IN\, 47403\, United States
ORGANIZER;CN="Abby Starr":MAILTO:abby@btownwarehouse.com
END:VEVENT
BEGIN:VEVENT
DTSTART;TZID=UTC:20230719T170000
DTEND;TZID=UTC:20230719T180000
DTSTAMP:20260423T233755
CREATED:20230703T040954Z
LAST-MODIFIED:20230703T040954Z
UID:54086-1689786000-1689789600@btownwarehouse.com
SUMMARY:TBD Art - All Ages
DESCRIPTION:
URL:https://btownwarehouse.com/event/tbd-art-all-ages-6/
LOCATION:The Warehouse\, 1525 S Rogers Street\, Bloomington\, IN\, 47403\, United States
ORGANIZER;CN="Abby Starr":MAILTO:abby@btownwarehouse.com
END:VEVENT
BEGIN:VEVENT
DTSTART;TZID=UTC:20230718T170000
DTEND;TZID=UTC:20230718T180000
DTSTAMP:20260423T233755
CREATED:20230703T040727Z
LAST-MODIFIED:20230703T040727Z
UID:54078-1689699600-1689703200@btownwarehouse.com
SUMMARY:TBD Art - All Ages
DESCRIPTION:
URL:https://btownwarehouse.com/event/tbd-art-all-ages-2/
LOCATION:The Warehouse\, 1525 S Rogers Street\, Bloomington\, IN\, 47403\, United States
ORGANIZER;CN="Abby Starr":MAILTO:abby@btownwarehouse.com
END:VEVENT
BEGIN:VEVENT
DTSTART;TZID=UTC:20230714T130000
DTEND;TZID=UTC:20230714T140000
DTSTAMP:20260423T233755
CREATED:20230703T041822Z
LAST-MODIFIED:20230703T041822Z
UID:54106-1689339600-1689343200@btownwarehouse.com
SUMMARY:Color Theory - Teens
DESCRIPTION:
URL:https://btownwarehouse.com/event/color-theory-teens-2/
LOCATION:The Warehouse\, 1525 S Rogers Street\, Bloomington\, IN\, 47403\, United States
ORGANIZER;CN="Abby Starr":MAILTO:abby@btownwarehouse.com
END:VEVENT
BEGIN:VEVENT
DTSTART;TZID=UTC:20230714T110000
DTEND;TZID=UTC:20230714T120000
DTSTAMP:20260423T233755
CREATED:20230703T041504Z
LAST-MODIFIED:20230703T041704Z
UID:54093-1689332400-1689336000@btownwarehouse.com
SUMMARY:Color Theory - Kids
DESCRIPTION:
URL:https://btownwarehouse.com/event/mosaics-kids-6/
LOCATION:The Warehouse\, 1525 S Rogers Street\, Bloomington\, IN\, 47403\, United States
ORGANIZER;CN="Abby Starr":MAILTO:abby@btownwarehouse.com
END:VEVENT
BEGIN:VEVENT
DTSTART;TZID=UTC:20230713T130000
DTEND;TZID=UTC:20230713T140000
DTSTAMP:20260423T233755
CREATED:20230703T040402Z
LAST-MODIFIED:20230703T040402Z
UID:54070-1689253200-1689256800@btownwarehouse.com
SUMMARY:Mosaics - Teens
DESCRIPTION:
URL:https://btownwarehouse.com/event/mosaics-teens-2/
LOCATION:The Warehouse\, 1525 S Rogers Street\, Bloomington\, IN\, 47403\, United States
ORGANIZER;CN="Abby Starr":MAILTO:abby@btownwarehouse.com
END:VEVENT
END:VCALENDAR